BEGIN:VCALENDAR
VERSION:2.0
PRODID:-//Tukios.com/
BEGIN:VEVENT
UID:d8789004-f6e1-479a-9eda-0199a92f5c8a@www.robinsonfuneral.com
DTSTAMP:20260424T200843Z
DTSTART:20260427T180000Z
DTEND:20260427T190000Z
SUMMARY:Graveside Service
DESCRIPTION:
URL:https://www.robinsonfuneral.com/obituaries/patricia-garrett
LOCATION: 5422 Oakville Road  Appomattox VA 24522
GEO:37.4341033;-78.8561446
END:VEVENT
END:VCALENDAR