BEGIN:VCALENDAR
VERSION:2.0
PRODID:-//Tukios.com/
BEGIN:VEVENT
UID:c2983188-5922-445f-84f9-7b55755b6dcc@www.robinsonfuneral.com
DTSTAMP:20260424T200212Z
DTSTART:20260426T200000Z
DTEND:20260426T220000Z
SUMMARY:Visitation
DESCRIPTION:
URL:https://www.robinsonfuneral.com/obituaries/patricia-garrett
LOCATION:Robinson Funeral Home 667 Court St PO Box 6 Appomattox VA 24522
GEO:37.3595352;-78.8313186
END:VEVENT
END:VCALENDAR