BEGIN:VCALENDAR
VERSION:2.0
PRODID:-//Tukios.com/
BEGIN:VEVENT
UID:26c4f51a-f9ac-4156-9f71-a81b327d55ea@www.robinsonfuneral.com
DTSTAMP:20260421T005743Z
DTSTART:20260422T180000Z
DTEND:20260422T190000Z
SUMMARY:Funeral Service
DESCRIPTION:
URL:https://www.robinsonfuneral.com/obituaries/dorothy-mcfadden
LOCATION:Robinson Funeral Home 667 Court St PO Box 6 Appomattox VA 24522
GEO:37.3595352;-78.8313186
END:VEVENT
END:VCALENDAR