BEGIN:VCALENDAR
VERSION:2.0
PRODID:-//Tukios.com/
BEGIN:VEVENT
UID:16dcffe2-0498-43ea-a639-7a1c96d4b7bd@www.robinsonfuneral.com
DTSTAMP:20260421T010051Z
DTSTART:20260422T170000Z
DTEND:20260422T180000Z
SUMMARY:Visitation
DESCRIPTION:
URL:https://www.robinsonfuneral.com/obituaries/dorothy-mcfadden
LOCATION:Robinson Funeral Home 667 Court St PO Box 6 Appomattox VA 24522
GEO:37.3595352;-78.8313186
END:VEVENT
END:VCALENDAR